BEGIN:VCALENDAR
VERSION:2.0
PRODID:-//Txikiplan - ECPv6.13.2.1//NONSGML v1.0//EN
CALSCALE:GREGORIAN
METHOD:PUBLISH
X-WR-CALNAME:Txikiplan
X-ORIGINAL-URL:https://txikiplan2.verproyecto.es
X-WR-CALDESC:Eventos para Txikiplan
REFRESH-INTERVAL;VALUE=DURATION:PT1H
X-Robots-Tag:noindex
X-PUBLISHED-TTL:PT1H
BEGIN:VTIMEZONE
TZID:Europe/Madrid
BEGIN:DAYLIGHT
TZOFFSETFROM:+0100
TZOFFSETTO:+0200
TZNAME:CEST
DTSTART:20240331T010000
END:DAYLIGHT
BEGIN:STANDARD
TZOFFSETFROM:+0200
TZOFFSETTO:+0100
TZNAME:CET
DTSTART:20241027T010000
END:STANDARD
END:VTIMEZONE
BEGIN:VEVENT
DTSTART;TZID=Europe/Madrid:20240608T173000
DTEND;TZID=Europe/Madrid:20240608T190000
DTSTAMP:20260423T094750
CREATED:20240521T124124Z
LAST-MODIFIED:20240530T154559Z
UID:10001129-1717867800-1717873200@txikiplan2.verproyecto.es
SUMMARY:Cine infantil en Basauri: "Amigos imaginarios"
DESCRIPTION:«Amigos Imaginarios» narra la historia sigue a Buddy\, un niño que tiene la peculiar habilidad de ver y hablar con los amigos imaginarios de las personas. \nUn día\, Buddy conoce a Connor\, un amigo imaginario que ha sido olvidado por su antiguo dueño. Juntos\, embarcan en una aventura mágica para encontrar un hogar para Connor y otros amigos imaginarios olvidados. En el camino\, se enfrentarán a peligros y desafíos\, pero también descubrirán el verdadero poder de la amistad y la imaginación.
URL:https://txikiplan2.verproyecto.es/agenda/cine-infantil-en-basauri-amigos-imaginarios/2024-06-08/
LOCATION:Social Antzokia – Teatro de Basauri\, Kale Nagusia\, 2\, Basauri\, Bizkaia\, 48970\, España
CATEGORIES:espectáculo
ATTACH;FMTTYPE=image/jpeg:https://txikiplan2.verproyecto.es/wp-content/uploads/2024/05/amigos-imaginarios-pelicula.jpg
END:VEVENT
BEGIN:VEVENT
DTSTART;TZID=Europe/Madrid:20240609T173000
DTEND;TZID=Europe/Madrid:20240609T190000
DTSTAMP:20260423T094750
CREATED:20240521T124124Z
LAST-MODIFIED:20240530T154559Z
UID:10001130-1717954200-1717959600@txikiplan2.verproyecto.es
SUMMARY:Cine infantil en Basauri: "Amigos imaginarios"
DESCRIPTION:«Amigos Imaginarios» narra la historia sigue a Buddy\, un niño que tiene la peculiar habilidad de ver y hablar con los amigos imaginarios de las personas. \nUn día\, Buddy conoce a Connor\, un amigo imaginario que ha sido olvidado por su antiguo dueño. Juntos\, embarcan en una aventura mágica para encontrar un hogar para Connor y otros amigos imaginarios olvidados. En el camino\, se enfrentarán a peligros y desafíos\, pero también descubrirán el verdadero poder de la amistad y la imaginación.
URL:https://txikiplan2.verproyecto.es/agenda/cine-infantil-en-basauri-amigos-imaginarios/2024-06-09/
LOCATION:Social Antzokia – Teatro de Basauri\, Kale Nagusia\, 2\, Basauri\, Bizkaia\, 48970\, España
CATEGORIES:espectáculo
ATTACH;FMTTYPE=image/jpeg:https://txikiplan2.verproyecto.es/wp-content/uploads/2024/05/amigos-imaginarios-pelicula.jpg
END:VEVENT
END:VCALENDAR