BEGIN:VCALENDAR
VERSION:2.0
PRODID:-//Txikiplan - ECPv6.13.2.1//NONSGML v1.0//EN
CALSCALE:GREGORIAN
METHOD:PUBLISH
X-ORIGINAL-URL:https://txikiplan2.verproyecto.es
X-WR-CALDESC:Eventos para Txikiplan
REFRESH-INTERVAL;VALUE=DURATION:PT1H
X-Robots-Tag:noindex
X-PUBLISHED-TTL:PT1H
BEGIN:VTIMEZONE
TZID:Europe/Madrid
BEGIN:DAYLIGHT
TZOFFSETFROM:+0100
TZOFFSETTO:+0200
TZNAME:CEST
DTSTART:20240331T010000
END:DAYLIGHT
BEGIN:STANDARD
TZOFFSETFROM:+0200
TZOFFSETTO:+0100
TZNAME:CET
DTSTART:20241027T010000
END:STANDARD
END:VTIMEZONE
BEGIN:VEVENT
DTSTART;TZID=Europe/Madrid:20240929T110000
DTEND;TZID=Europe/Madrid:20240929T143000
DTSTAMP:20260420T132159
CREATED:20240909T091959Z
LAST-MODIFIED:20240925T082127Z
UID:10002081-1727607600-1727620200@txikiplan2.verproyecto.es
SUMMARY:Salón del Cómic de Getxo
DESCRIPTION:¡Getxo se llena de superhéroes y aventuras! Sumérgete en el mundo del cómic y disfruta de un fin de semana lleno de diversión en el Salón del Cómic de Getxo. ¡No te pierdas la oportunidad de conocer a tus autores favoritos\, conseguir cómics exclusivos y pasar un rato inolvidable con otros amantes del noveno arte! \nAdemás\, como cada edición\, el Salón del Cómic de Getxo cuenta con una variada programación de talleres infantiles. Te lo contamos todo en el siguiente artículo de Txikiplan. 
URL:https://txikiplan2.verproyecto.es/agenda/salon-del-comic-de-getxo/2024-09-29/1/
CATEGORIES:exposición
ATTACH;FMTTYPE=image/jpeg:https://txikiplan2.verproyecto.es/wp-content/uploads/2024/09/salon-comic-getxo.jpg
END:VEVENT
BEGIN:VEVENT
DTSTART;TZID=Europe/Madrid:20240929T170000
DTEND;TZID=Europe/Madrid:20240929T200000
DTSTAMP:20260420T132159
CREATED:20240909T091959Z
LAST-MODIFIED:20240925T082127Z
UID:10002082-1727629200-1727640000@txikiplan2.verproyecto.es
SUMMARY:Salón del Cómic de Getxo
DESCRIPTION:¡Getxo se llena de superhéroes y aventuras! Sumérgete en el mundo del cómic y disfruta de un fin de semana lleno de diversión en el Salón del Cómic de Getxo. ¡No te pierdas la oportunidad de conocer a tus autores favoritos\, conseguir cómics exclusivos y pasar un rato inolvidable con otros amantes del noveno arte! \nAdemás\, como cada edición\, el Salón del Cómic de Getxo cuenta con una variada programación de talleres infantiles. Te lo contamos todo en el siguiente artículo de Txikiplan. 
URL:https://txikiplan2.verproyecto.es/agenda/salon-del-comic-de-getxo/2024-09-29/2/
CATEGORIES:exposición
ATTACH;FMTTYPE=image/jpeg:https://txikiplan2.verproyecto.es/wp-content/uploads/2024/09/salon-comic-getxo.jpg
END:VEVENT
END:VCALENDAR