BEGIN:VCALENDAR
VERSION:2.0
PRODID:-//Txikiplan - ECPv6.13.2.1//NONSGML v1.0//EN
CALSCALE:GREGORIAN
METHOD:PUBLISH
X-ORIGINAL-URL:https://txikiplan2.verproyecto.es
X-WR-CALDESC:Eventos para Txikiplan
REFRESH-INTERVAL;VALUE=DURATION:PT1H
X-Robots-Tag:noindex
X-PUBLISHED-TTL:PT1H
BEGIN:VTIMEZONE
TZID:Europe/Madrid
BEGIN:DAYLIGHT
TZOFFSETFROM:+0100
TZOFFSETTO:+0200
TZNAME:CEST
DTSTART:20240331T010000
END:DAYLIGHT
BEGIN:STANDARD
TZOFFSETFROM:+0200
TZOFFSETTO:+0100
TZNAME:CET
DTSTART:20241027T010000
END:STANDARD
END:VTIMEZONE
BEGIN:VEVENT
DTSTART;TZID=Europe/Madrid:20240127T100000
DTEND;TZID=Europe/Madrid:20240127T133000
DTSTAMP:20260424T181011
CREATED:20240119T182254Z
LAST-MODIFIED:20240119T182254Z
UID:10000094-1706349600-1706362200@txikiplan2.verproyecto.es
SUMMARY:¡Construye tu propia casa para pájaros en Romo!
DESCRIPTION:Original actividad en la que crearás y decorarás una casa para pájaros\, que posteriormente será instalada en uno de los parques de Getxo y servirá de nido para las aves. Cada caseta será identificada con un número y en la web municipal se publicará un listado con la ubicación dónde ha sido colocada para poder hacer un seguimiento. \nHabrá dos turnos: el primero en horario de 10:00 a 11:30 h\, el segundo de 12:00 a 13:30 h \nEs necesario apuntarse previamente\, mandando un e-mail a: boluenatura@gmail.com
URL:https://txikiplan2.verproyecto.es/agenda/construye-tu-propia-casa-para-pajaros-en-romo/
LOCATION:Romo Kultur Etxea\, Santa Eugenia\, Plaza\, 1\, Getxo\, Bizkaia\, 48930\, España
CATEGORIES:taller
ATTACH;FMTTYPE=image/jpeg:https://txikiplan2.verproyecto.es/wp-content/uploads/2024/01/taller-construccion-casa-pajaros-getxo.jpg
ORGANIZER;CN="Romo Kultur Etxea":MAILTO:info@getxokultura.com
END:VEVENT
BEGIN:VEVENT
DTSTART;TZID=Europe/Madrid:20240128T103000
DTEND;TZID=Europe/Madrid:20240128T133000
DTSTAMP:20260424T181011
CREATED:20240120T122302Z
LAST-MODIFIED:20240125T180227Z
UID:10000107-1706437800-1706448600@txikiplan2.verproyecto.es
SUMMARY:Taller en familia: construye casas-nido en Ekoetxea Meatzaldea - Peñas Negras
DESCRIPTION:La actividad consiste en construir cajas-nido para las aves que viven en los ecosistemas montañosos de Peñas Negras. Se trata de una forma de colaborar con la naturaleza y favorecer la reproducción de las aves. \nLa actividad es gratuita y tiene un aforo limitado de 25 personas. \n\nLugar: Peñas Negras\nAforo: 25 personas\nPrecio: gratis\nDuración: 3 h\nMás información e inscripción: www.ekoetxea.eus
URL:https://txikiplan2.verproyecto.es/agenda/taller-en-familia-construye-casas-nido-en-ekoetxea-meatzaldea-penas-negras/
LOCATION:Ekoetxea Meatzaldea – Peñas Negras\, Carretera forestal La Arboleda - Muskiz km 1\,6\,\, Ortuella\, Bizkaia\, 48530\, España
ATTACH;FMTTYPE=image/jpeg:https://txikiplan2.verproyecto.es/wp-content/uploads/2024/01/taller-construccion-casa-pajaros-getxo.jpg
ORGANIZER;CN="Ekoetxea Meatzaldea - Pe%C3%B1as Negras":MAILTO:info.meatzaldea@ekoetxea.eus
END:VEVENT
END:VCALENDAR